BEGIN:VCALENDAR
VERSION:2.0
PRODID:-//Loudon County Habitat for Humanity - ECPv6.15.11//NONSGML v1.0//EN
CALSCALE:GREGORIAN
METHOD:PUBLISH
X-WR-CALNAME:Loudon County Habitat for Humanity
X-ORIGINAL-URL:https://loudoncountyhabitat.org
X-WR-CALDESC:Events for Loudon County Habitat for Humanity
REFRESH-INTERVAL;VALUE=DURATION:PT1H
X-Robots-Tag:noindex
X-PUBLISHED-TTL:PT1H
BEGIN:VTIMEZONE
TZID:UTC
BEGIN:STANDARD
TZOFFSETFROM:+0000
TZOFFSETTO:+0000
TZNAME:UTC
DTSTART:20250101T000000
END:STANDARD
END:VTIMEZONE
BEGIN:VEVENT
DTSTART;TZID=UTC:20260429T080000
DTEND;TZID=UTC:20260429T100000
DTSTAMP:20260423T124812
CREATED:20150507T182657Z
LAST-MODIFIED:20260218T175301Z
UID:1432-1777449600-1777456800@loudoncountyhabitat.org
SUMMARY:Houses and Hope: Housing Panel
DESCRIPTION:Join Us for the 12th Annual Houses & Hope Breakfast Wednesday\, April 29th\, at The Venue in Lenoir City \nHouses & Hope 2026 brings our community together around a shared belief; together\, we build stronger families\, resilient neighborhoods\, and a future where safe\, affordable housing is within reach for all. \nThis year’s event will feature a dynamic panel of housing experts who will share insights on the current housing landscape\, emerging challenges\, and opportunities for collaboration as our region continues to grow. The conversation will explore what it takes to build and sustain healthy communities and why housing plays such a critical role. \nWe will also take time to recognize and celebrate our incredible volunteers whose dedication and service make our mission possible. Their commitment is a powerful reminder that LCHFH’s work truly starts with people willing to show up and build alongside one another. \nThe event is free and open to the public. Breakfast will be served beginning at 8:00 a.m.\, with the program starting promptly at 8:30 a.m. While there is no cost to attend\, RSVPs are required to help us plan for food. \nTo reserve your seat use the button below. For questions\, please contact Rachel Rendon rachel@loudoncountyhabitat.org. \n If you can join us\, please RSVP so that we can reserve a place for you: https://HH26.auctria.events \nrachel@loudoncountyhabitat.org or (865) 458-0704 Option 2\, Ext 3
URL:https://loudoncountyhabitat.org/event/houses-and-hope-breakfast-3/
LOCATION:The Venue at Lenoir City\, 7690 Creekwood Park Blvd\, Lenoir City\, 37772
CATEGORIES:Community,Fundraising
ATTACH;FMTTYPE=image/jpeg:https://loudoncountyhabitat.org/wp-content/uploads/2015/05/DSC_9663c.jpg
ORGANIZER;CN="Rachel Rendon":MAILTO:rachel@loudoncountyhabitat.org
END:VEVENT
END:VCALENDAR