BEGIN:VCALENDAR
VERSION:2.0
PRODID:-//Loudon County Habitat for Humanity - ECPv6.15.11//NONSGML v1.0//EN
CALSCALE:GREGORIAN
METHOD:PUBLISH
X-ORIGINAL-URL:https://loudoncountyhabitat.org
X-WR-CALDESC:Events for Loudon County Habitat for Humanity
REFRESH-INTERVAL;VALUE=DURATION:PT1H
X-Robots-Tag:noindex
X-PUBLISHED-TTL:PT1H
BEGIN:VTIMEZONE
TZID:UTC
BEGIN:STANDARD
TZOFFSETFROM:+0000
TZOFFSETTO:+0000
TZNAME:UTC
DTSTART:20230101T000000
END:STANDARD
END:VTIMEZONE
BEGIN:VEVENT
DTSTART;TZID=UTC:20250927T080000
DTEND;TZID=UTC:20250927T120000
DTSTAMP:20260424T201401
CREATED:20220808T230841Z
LAST-MODIFIED:20250226T164245Z
UID:4054-1758960000-1758974400@loudoncountyhabitat.org
SUMMARY:Community-Wide Garage Sale & Boutique
DESCRIPTION:Shop ’til you drop at this year’s Community Church Crafters Garage Sale. The community-wide sale will be Saturday\, September 27th\, from 8 am until noon in the Christian Life Center of the Community Church at Tellico Village. The church is located at 130 Chota Center\, just of Hwy. 444 in Tellico Village. \nDonations will be accepted Friday September 26th from 8 am until noon. \nBargains galore will be available on clothing\, household items\, books\, electronics\, furniture\, yard tools\, sports equipment and more. \nProceeds from the garage sale benefit Loudon County Habitat for Humanity and other local charities. \nFor more information or to volunteer to help with the sale\, or to arrange donating goods\, email Amanda Frangu amanda@loudoncountyhabitat.org.
URL:https://loudoncountyhabitat.org/event/community-wide-garage-sale-boutique/
LOCATION:Christian Life Center of the Community Church at Tellico Village\, 130 Chota Ctr\, Loudon\, TN\, 37774\, United States
CATEGORIES:Community
ATTACH;FMTTYPE=image/jpeg:https://loudoncountyhabitat.org/wp-content/uploads/2022/08/Tellico-Village-Church-01-2500x1000-1-1.jpeg
ORGANIZER;CN="Amanda Frangu":MAILTO:amanda@loudoncountyhabitat.org
END:VEVENT
BEGIN:VEVENT
DTSTART;TZID=UTC:20250517T090000
DTEND;TZID=UTC:20250517T160000
DTSTAMP:20260424T201401
CREATED:20250226T181348Z
LAST-MODIFIED:20250513T165619Z
UID:5011-1747472400-1747497600@loudoncountyhabitat.org
SUMMARY:ReStore 30th Anniversary Celebration BBQ
DESCRIPTION:Come celebrate 30 years of the Loudon County Habitat for Humanity ReStore with us! Our ReStore is more than just a store—it’s a green\, sustainable way to shop\, giving new life to donated goods while keeping items out of landfills. It also provides affordable home goods for our community\, all while helping fund Habitat’s mission of building safe\, affordable housing. Now\, it’s time to celebrate everything we’ve accomplished together! \nTo mark this milestone\, we’re hosting a BBQ celebration filled with delicious food\, fun activities\, extended hours and great company! Come enjoy:\n-BBQ & Refreshments\n-Door Prizes & Giveaways\n-Special Discounts in the ReStore\n-And the launch of our ReStore Online Sale \nWhether you’ve been a longtime supporter or are just discovering the ReStore\, we’d love to celebrate with you. Bring your family\, friends\, and appetite—we can’t wait to see you there! The store will be open for shopping from 9 – 4\, and food will be available from 11 – 4.
URL:https://loudoncountyhabitat.org/event/restore-30th-anniversary-celebration-bbq/
LOCATION:Loudon County Habitat for Humanity ReStore\, 303 Simpson Road East\, Lenoir City\, TN\, 37771\, United States
CATEGORIES:Community
ATTACH;FMTTYPE=image/png:https://loudoncountyhabitat.org/wp-content/uploads/2025/02/ReStore-30th.png
ORGANIZER;CN="Loudon County Habitat for Humanity":MAILTO:rachel@loudoncountyhabitat.org
END:VEVENT
BEGIN:VEVENT
DTSTART;TZID=UTC:20250408T113000
DTEND;TZID=UTC:20250408T130000
DTSTAMP:20260424T201401
CREATED:20250115T145555Z
LAST-MODIFIED:20250226T163623Z
UID:4974-1744111800-1744117200@loudoncountyhabitat.org
SUMMARY:Houses and Hope: Hilltop Hideaway Groundbreaking
DESCRIPTION:
URL:https://loudoncountyhabitat.org/event/houses-and-hope-breakfast-2/
LOCATION:Hilltop Hideaway\, 1269 Carding Machine Rd\, Loudon\, TN\, 37774\, United States
CATEGORIES:Community,Fundraising
ATTACH;FMTTYPE=image/jpeg:https://loudoncountyhabitat.org/wp-content/uploads/2025/01/HH-Info-Flyer-small.jpg
ORGANIZER;CN="Loudon County Habitat for Humanity":MAILTO:rachel@loudoncountyhabitat.org
END:VEVENT
BEGIN:VEVENT
DTSTART;TZID=UTC:20240529T100000
DTEND;TZID=UTC:20240530T140000
DTSTAMP:20260424T201401
CREATED:20240227T142639Z
LAST-MODIFIED:20240503T162106Z
UID:4772-1716976800-1717077600@loudoncountyhabitat.org
SUMMARY:Bridges Out of Poverty
DESCRIPTION:Bridges Out of Poverty is a workshop that helps us understand the challenges faced by families living in poverty and  how it shapes the interactions and experiences of a person’s every-day life.  It offers solutions that are practical and strategic.  \nBridges Out of Poverty takes the concepts of  hidden rules of economic class and uses them to help us understand the unique and sometimes hidden obstacles that individuals from poverty face. Loudon County Habitat for Humanity is pleased to present Special Guest Speaker Tina Brown Hyman and Bridges Out of Poverty on May 29th and 30th.    \nJoin us for one of these presentations:  \n\nWednesday May 29th from 10am-2pm at Community Church at Tellico Village (registration begins at 9:30 am). CLICK HERE TO REGISTER\nWednesday\, May 29th from 5pm-9pm at Community Church at Tellico Village (registration begins at 4:30 pm). CLICK HERE TO REGISTER\nThursday\, May 30th from 8am-Noon. At Central United Methodist Church\, Lenoir City (registration begins at 7:30 am). CLICK HERE TO REGISTER\n\nRegistration is $25 per person. Special rate for Groundbreakers Club members: $15.00. 
URL:https://loudoncountyhabitat.org/event/bridges/
LOCATION:TN
CATEGORIES:Community
ATTACH;FMTTYPE=image/png:https://loudoncountyhabitat.org/wp-content/uploads/2024/02/Blue-White-Bold-Illustrative-Open-Donation-Instagram-Post.png
END:VEVENT
BEGIN:VEVENT
DTSTART;TZID=UTC:20240406T180000
DTEND;TZID=UTC:20240406T210000
DTSTAMP:20260424T201401
CREATED:20240308T141434Z
LAST-MODIFIED:20240308T141434Z
UID:4792-1712426400-1712437200@loudoncountyhabitat.org
SUMMARY:Second Wind Concert
DESCRIPTION:Join us for an energetic evening on the shores of Tellico Lake featuring Second Wind\, with a portion of the proceeds benefiting our charity partner Loudon County TN Habitat for Humanity. This adult rock band\, with horns and full rhythm section\, will cover music from Chicago\, Earth Wind and Fire\, Stevie Wonder\, Aretha and many more – plus delighting us with some original tunes. \n\nGeneral admission seating; please bring lawn chairs.\nLimited veranda seating – tickets require separate meal purchase from the Tellico Village Yacht Club.\nLimited parking at the Yacht Club. Shuttle service will be provided. (See FAQ section for more details.)\nDrinks/Food available for purchase from the Yacht Club. Please no outside food/drinks.\nPets are not permitted (except service animals).\nRain date is Sunday\, April 7th from 6pm-9pm.\n\nClick to view Second Wind Knox‘s website and learn more about these elite musicians. \nLoudon County TN Habitat for Humanity is celebrating their 30th anniversary of providing safe and affordable local housing to those in need through new builds and critical repairs. To learn more about Loudon County TN Habitat for Humanity or donate online\, click here. \nBe sure to follow Elite Tunes Series at Tellico Village on Eventbrite to be notified of all upcoming events. Also\, check out our Facebook and Instagram sites. \nSending a big Shout Out to our corporate sponsors: \n\nRE/MAX EXCELS; Leza Barnard\, Broker/Owner\nSloan’s Village Home Center\nBarone Builders LLC (Loudon\, TN)\nCitizens Insurance Solutions; Pamela Cripe\, Advisor\nGallaher Plastic Surgery & Spa MD
URL:https://loudoncountyhabitat.org/event/second-wind-concert/
LOCATION:Tellico Village Yacht Club\, 100 Sequoyah Road\, Loudon\, TN\, 37774\, United States
CATEGORIES:Community
END:VEVENT
END:VCALENDAR