BEGIN:VCALENDAR
VERSION:2.0
PRODID:-//Loudon County Habitat for Humanity - ECPv6.15.11//NONSGML v1.0//EN
CALSCALE:GREGORIAN
METHOD:PUBLISH
X-ORIGINAL-URL:https://loudoncountyhabitat.org
X-WR-CALDESC:Events for Loudon County Habitat for Humanity
REFRESH-INTERVAL;VALUE=DURATION:PT1H
X-Robots-Tag:noindex
X-PUBLISHED-TTL:PT1H
BEGIN:VTIMEZONE
TZID:UTC
BEGIN:STANDARD
TZOFFSETFROM:+0000
TZOFFSETTO:+0000
TZNAME:UTC
DTSTART:20240101T000000
END:STANDARD
END:VTIMEZONE
BEGIN:VEVENT
DTSTART;VALUE=DATE:20251201
DTEND;VALUE=DATE:20251208
DTSTAMP:20260424T202446
CREATED:20250703T181615Z
LAST-MODIFIED:20250703T181615Z
UID:5069-1764547200-1765151999@loudoncountyhabitat.org
SUMMARY:ReStore Online Sale
DESCRIPTION:Don’t miss our monthly online sale\, where we feature one-of-a-kind\, high-quality\, and specialty items you won’t always find in-store! From rare finds to vintage gems to designer pieces\, these treasures are priced to move – crazy cheap and all for a great cause. \nIt’s an extension of our ReStore\, curated for savvy shoppers with an eye for something unique. \nVisit https://auctria.events/lchfh to start shopping! \n🗓️ New sale every month • 💻 Shop online • 📦 Local pickup\, and shipping are available
URL:https://loudoncountyhabitat.org/event/restore-online-sale-5/
CATEGORIES:Online ReStore Sales
ATTACH;FMTTYPE=image/png:https://loudoncountyhabitat.org/wp-content/uploads/2025/07/Banner-1-2.png
ORGANIZER;CN="Tim Howell":MAILTO:tim@loudoncountyhabitat.org
END:VEVENT
BEGIN:VEVENT
DTSTART;VALUE=DATE:20251103
DTEND;VALUE=DATE:20251110
DTSTAMP:20260424T202446
CREATED:20250703T181512Z
LAST-MODIFIED:20250703T181952Z
UID:5068-1762128000-1762732799@loudoncountyhabitat.org
SUMMARY:ReStore Online Sale - Christmas Extravaganza!
DESCRIPTION:Don’t miss our monthly online sale\, where we feature one-of-a-kind\, high-quality\, and specialty items you won’t always find in-store! From rare finds to vintage gems to designer pieces\, these treasures are priced to move – crazy cheap and all for a great cause. It’s an extension of our ReStore\, curated for savvy shoppers with an eye for something unique. \nWe’ve got tons of holliday home decor\, trinkets\, gifts\, and more for you to kick off the holliday season with cheer. Your purchases will make your home cheery & bright\, and support affordable housing oppurtunities in Loudon County. \nVisit https://auctria.events/lchfh to start shopping! \n🗓️ New sale every month • 💻 Shop online • 📦 Local pickup\, and shipping are available
URL:https://loudoncountyhabitat.org/event/restore-online-sale-4/
CATEGORIES:Online ReStore Sales
ATTACH;FMTTYPE=image/png:https://loudoncountyhabitat.org/wp-content/uploads/2025/07/Banner-1-2.png
ORGANIZER;CN="Tim Howell":MAILTO:tim@loudoncountyhabitat.org
END:VEVENT
BEGIN:VEVENT
DTSTART;VALUE=DATE:20250901
DTEND;VALUE=DATE:20250908
DTSTAMP:20260424T202446
CREATED:20250703T181419Z
LAST-MODIFIED:20250703T181419Z
UID:5067-1756684800-1757289599@loudoncountyhabitat.org
SUMMARY:ReStore Online Sale
DESCRIPTION:Don’t miss our monthly online sale\, where we feature one-of-a-kind\, high-quality\, and specialty items you won’t always find in-store! From rare finds to vintage gems to designer pieces\, these treasures are priced to move – crazy cheap and all for a great cause. \nIt’s an extension of our ReStore\, curated for savvy shoppers with an eye for something unique. \nVisit https://auctria.events/lchfh to start shopping! \n🗓️ New sale every month • 💻 Shop online • 📦 Local pickup\, and shipping are available
URL:https://loudoncountyhabitat.org/event/restore-online-sale-3/
CATEGORIES:Online ReStore Sales
ATTACH;FMTTYPE=image/png:https://loudoncountyhabitat.org/wp-content/uploads/2025/07/Banner-1-2.png
ORGANIZER;CN="Tim Howell":MAILTO:tim@loudoncountyhabitat.org
END:VEVENT
BEGIN:VEVENT
DTSTART;VALUE=DATE:20250804
DTEND;VALUE=DATE:20250811
DTSTAMP:20260424T202446
CREATED:20250703T181306Z
LAST-MODIFIED:20250703T181306Z
UID:5066-1754265600-1754870399@loudoncountyhabitat.org
SUMMARY:ReStore Online Sale
DESCRIPTION:Don’t miss our monthly online sale\, where we feature one-of-a-kind\, high-quality\, and specialty items you won’t always find in-store! From rare finds to vintage gems to designer pieces\, these treasures are priced to move – crazy cheap and all for a great cause. \nIt’s an extension of our ReStore\, curated for savvy shoppers with an eye for something unique. \nVisit https://auctria.events/lchfh to start shopping! \n🗓️ New sale every month • 💻 Shop online • 📦 Local pickup\, and shipping are available
URL:https://loudoncountyhabitat.org/event/restore-online-sale-2/
CATEGORIES:Online ReStore Sales
ATTACH;FMTTYPE=image/png:https://loudoncountyhabitat.org/wp-content/uploads/2025/07/Banner-1-2.png
ORGANIZER;CN="Tim Howell":MAILTO:tim@loudoncountyhabitat.org
END:VEVENT
BEGIN:VEVENT
DTSTART;VALUE=DATE:20250703
DTEND;VALUE=DATE:20250714
DTSTAMP:20260424T202446
CREATED:20250703T180537Z
LAST-MODIFIED:20250703T180537Z
UID:5062-1751500800-1752451199@loudoncountyhabitat.org
SUMMARY:ReStore Online Sale
DESCRIPTION:Don’t miss our monthly online sale\, where we feature one-of-a-kind\, high-quality\, and specialty items you won’t always find in-store! From rare finds to vintage gems to designer pieces\, these treasures are priced to move – crazy cheap and all for a great cause. \nIt’s an extension of our ReStore\, curated for savvy shoppers with an eye for something unique. \nVisit https://auctria.events/lchfh to start shopping! \n🗓️ New sale every month • 💻 Shop online • 📦 Local pickup\, and shipping are available
URL:https://loudoncountyhabitat.org/event/restore-online-sale/
CATEGORIES:Online ReStore Sales
ATTACH;FMTTYPE=image/png:https://loudoncountyhabitat.org/wp-content/uploads/2025/07/Banner-1-2.png
ORGANIZER;CN="Tim Howell":MAILTO:tim@loudoncountyhabitat.org
END:VEVENT
END:VCALENDAR